BEGIN:VCALENDAR
VERSION:1.0
PRODID:Open2CKalenderExportV11
BEGIN:VEVENT
DTSTAMP:20260421T134156Z
DTSTART:20260507T190000Z
DTEND:20260507T230000Z
CATEGORIES:kulturelle Veranstaltung
SUMMARY:KINO IN EICHENAU - Mai
DESCRIPTION: | KINO IN EICHENAU | Das Projekt „Kino - Frauen aller Kulturen“ präsentiert: | „HIDDEN FIGURES - Unerkannte Heldinnen“ | »Hier bei der NASA pinkeln wir alle dieselbe Farbe!« Das verkündet der Chef der Space Task Group seinen Mitarbeitern. Zu dieser bahn\nechenden Erkenntnis hatte ihm seine beste Mathematikerin verholfen – nach einem Gang aufs Klo. Für Katherine Goble schreibt die Rassentrennung den ›Coloured Women Restroom‹ vor: rund eine Meile entfernt, 40 Minuten hin und zurück, in Langley, Virginia, 1961. Nachdem die Russen Juri Gagarin ins All expediert hatten, steht die NASA im ›Space-Race‹ unter gewaltigem Druck. John Glenn soll der erste Amerikaner im Orbit sein, aber noch fehlt die Formel zur Berechnung der Flugbahn, die eine sichere Rückkehr garantiert. In nationaler Not werden – aus der Hilfsabteilung ›Colored Computers‹ – drei afroamerikanische Frauen ins Team geholt. Die Rassendiskriminierung kollidiert mit der Mathematik, mit dem Mut und der Moral dieser Frauen. | Nach einer wahren Begebenheit. USA / 127min. / FSK 0 | Das 2017 von der Schauspielerin Marie Theres Relin initiierte Inklusions- und Integrationsprojekt „Kino Frauen aller Kulturen“ sieht vor, dass einmal pro Monat Frauen aller Kulturen, Religionen und Nationen mit ihren Kindern zu einem kostenlosen Kinobesuch eingeladen werden. Ziel dieses Projektes ist es, Frauen ein gemütliches Beisammensein zu ermöglichen, bei dem sie sich einerseits durch einen Film gut unterhalten fühlen und sich andererseits nach dem Film über das Gesehene und das Erlebte und – bei Bedarf – ihr Leben schlechthin austauschen können. Raus aus der Küche, rein ins Kino. Alle großen und kleinen Gäste werden mit einer Tüte Popcorn begrüßt. Dieses Inklusionsprojekt wurde im Fe\nuar 2019 mit dem Integrationspreis ausgezeichnet. | Wann? 07.05.2026  Wo? Bürgerzentrum / Friesenhalle, Hauptstraße 60 | Uhrzeit? Einlass: 19:00 Uhr / Filmbeginn: 19:30 Uhr | Der Eintritt ist frei. Plus ein Glas Sekt! | Welcher Film gezeigt wird, wird auf www.eichenau.de sowie auf Plakaten im Gemeindegebiet immer ca. 2 Wochen vor der Filmaufführung veröffentlicht. | Eingeladen sind alle Frauen aller Kulturen, Religionen und Nationen. | Informationen / Ansprechpartnerin im Rathaus: Stefanie Hoffmann / Stadtmarketing, Telefon 08141 / 730 - 160 | Organisator   Gemeinde Eichenau - Stadtmarketing | Kontakt   Gemeinde Eichenau Stadtmarketing | 08141/730-160 | meks@eichenau.de | Hauptplatz 2 | 82223 Eichenau
LOCATION:Bürgerzentrum / Friesenhalle, Hauptstraße 60
UID:041d552e89d1604e053992112063d475-8c836a761bee673aa3291475e170fce7
PRIORITY:3
END:VEVENT
END:VCALENDAR
