BEGIN:VCALENDAR
VERSION:1.0
PRODID:Open2CKalenderExportV11
BEGIN:VEVENT
DTSTAMP:20260420T083314Z
DTSTART:20260508T180000Z
DTEND:20260508T180000Z
CATEGORIES:Veranstaltung
SUMMARY:FINISSAGE - Kunstausstellung im Rathaus - Barbara Zoller und Rita Kappl
DESCRIPTION:Liebe Eichenauer,falls Sie immer noch keine Gelegenheit gefunden haben, unsere Kunstausstellung im Rathaus zu besuchen, laden wir Sie herzlich zu unserer Finnissage am 8. Mai um 18 Uhr ein. Bringen Sie Ihre Freunde mit und freuen Sie sich auf einen entspannten Abend. | Barbara Zoller und Rita Kappl  | Organisator   Frau Barbara Zoller und Frau Rita Kappl | Kontakt   Frau Stefanie Hoffmann | Tel: 08141-730 160 | meks@eichenau.de
LOCATION:Gemeinde Eichenau
 Rathaus
 Hauptplatz 2
 82223 Eichenau
UID:79954d17ee30a90d500fad9f58c3c117-cb166083e36081325b729d0e22394ac2
PRIORITY:3
END:VEVENT
END:VCALENDAR
