BEGIN:VCALENDAR
VERSION:1.0
PRODID:Open2CKalenderExportV11
BEGIN:VEVENT
DTSTAMP:20260420T091936Z
DTSTART:20260522T190000Z
DTEND:20260522T190000Z
CATEGORIES:Veranstaltung
SUMMARY:Vernissage "Wir Menschen" am 22.05.2026 um 19:00 Uhr
DESCRIPTION:Die Ausstellung „Wir Menschen“ zeigt Gemälde und Drahtzeichnungen. Sie \ningt drei Eichenauer Künstlerinnen zusammen, deren Werke das vielschichtige menschliche Sein zum Inhalt haben.  Im Zentrum steht ein Dialog über Individuen und Gruppen: Während die Einzelporträts zur direkten Begegnung mit den Betrachtenden einladen, geht es in den Gruppenbildern um soziale Dynamiken. Sie machen Momente der Verbundenheit erfahrbar, zeigen aber auch Isolation oder die Entstehung von Gemeinschaften. | Durch Kombination der unterschiedlichen Handschriften der Künstlerinnen entstehen neue inhaltliche Zusammenhänge. | Dagmar Horn-Schmid, Irmfried Nester, Susanne Sommer
LOCATION:Rathaus Gemeinde Eichenau
 Hauptplatz 2
 82223 Eichenau
UID:1c9506b58a407241d45f7614f37d3b35-f03869656c1f7be63ca8d7eb1896638e
PRIORITY:3
END:VEVENT
END:VCALENDAR
