BEGIN:VCALENDAR
VERSION:2.0
PRODID:< http://www.open2c.de/ >
METHOD:PUBLISH
X-PUBLISHED-TTL:PT12H
BEGIN:VEVENT
CREATED:20260420T082252Z
LAST-MODIFIED:20260420T083314Z
ORGANIZER;CN="Frau Barbara Zoller und Frau Rita Kappl":MAILTO:Frau Stefanie Hoffmann\nTel: 08141-730 160\nmeks@eichenau.de
DTSTAMP:20260422T033528Z
DTSTART;VALUE=DATE:20260508
CATEGORIES:Veranstaltung
SUMMARY:FINISSAGE - Kunstausstellung im Rathaus - Barbara Zoller und Rita Kappl
DESCRIPTION:Liebe Eichenauer\,falls Sie immer noch keine Gelegenheit gefunde
	n haben\, unsere Kunstausstellung im Rathaus zu besuchen\, laden wir Sie her
	zlich zu unserer Finnissage am 8. Mai um 18 Uhr ein. Bringen Sie Ihre Freu
	nde mit und freuen Sie sich auf einen entspannten Abend. Barbara Zoller un
	d Rita Kappl Organisator Frau Barbara Zoller und Frau Rita Kappl Kontakt F
	rau Stefanie Hoffmann Tel: 08141-730 160 meks@eichenau.de
LOCATION:Gemeinde Eichenau\nRathaus\nHauptplatz 2\n82223 Eichenau
UID:922924cb51b1dc2df0c9ac73c31a4d86@12903576e1eacfa98405c56ca2e3382b
END:VEVENT
END:VCALENDAR