BEGIN:VCALENDAR
VERSION:2.0
PRODID:< http://www.open2c.de/ >
METHOD:PUBLISH
X-PUBLISHED-TTL:PT12H
BEGIN:VEVENT
CREATED:20260420T091356Z
LAST-MODIFIED:20260420T091936Z
DTSTAMP:20260422T032942Z
DTSTART;VALUE=DATE:20260522
CATEGORIES:Veranstaltung
SUMMARY:Vernissage "Wir Menschen" am 22.05.2026 um 19:00 Uhr
DESCRIPTION:Die Ausstellung „Wir Menschen“ zeigt Gemälde und Drahtzeic
	hnungen. Sie bringt drei Eichenauer Künstlerinnen zusammen\, deren Werke d
	as vielschichtige menschliche Sein zum Inhalt haben.  Im Zentrum steht ei
	n Dialog über Individuen und Gruppen: Während die Einzelporträts zur di
	rekten Begegnung mit den Betrachtenden einladen\, geht es in den Gruppenbil
	dern um soziale Dynamiken. Sie machen Momente der Verbundenheit erfahrbar\,
	 zeigen aber auch Isolation oder die Entstehung von Gemeinschaften. Durch 
	Kombination der unterschiedlichen Handschriften der Künstlerinnen entsteh
	en neue inhaltliche Zusammenhänge. Dagmar Horn-Schmid\, Irmfried Nester\, S
	usanne Sommer
LOCATION:Rathaus Gemeinde Eichenau\nHauptplatz 2\n82223 Eichenau
UID:e24381eae08bc01c6663a84a9c2bf0a5@12903576e1eacfa98405c56ca2e3382b
END:VEVENT
END:VCALENDAR