BEGIN:VCALENDAR
VERSION:1.0
PRODID:Open2CKalenderExportV11
BEGIN:VEVENT
DTSTAMP:20241023T140051Z
DTSTART:20241026T190000Z
DTEND:20241026T190000Z
CATEGORIES:Konzert
SUMMARY:Ocarina-Konzert: Ocarina-Ensemble Budrio spielt in der Starzelbachschule
DESCRIPTION:Das Ocarina-Ensemble Budrio aus unserer Städtepartnerschaft Budrio spielt bei uns in Eichenau! |   |   | Herzliche Einladung zum  | Ocarina-Konzert mit dem | Ocarina-Ensemble Budrio (OEBU) | unter der Leitung von Cristian Pauleni | am 26.10.2024, um 19 Uhr | Änderung: in der Starzelbachschule, Parkstr. 32 ( nicht in der St. Georgskapelle zu Roggenstein) | Änderung: Eintritt ist frei!Bereits erworbene Karten: (18 Euro  / ermäßigte Karten: 10 Euro) können an der Kasse im Rathaus (siehe Parteiverkehrszeiten) wieder zurückgegeben werden bzw. werden erstattet! | Auf dem Programm stehen von tradtionellen budrieser Ocarina-Werken bis hin zu Arrangements von Donizetti und Mozart. Genießen Sie dieses besondere Klangerlebnis in der Kapelle zu Roggenstein.
LOCATION:
UID:6684b8b40eb5032dbebdff14a50f9911-44b992029522d44b91e5aa7bda2e853a
PRIORITY:3
END:VEVENT
END:VCALENDAR
