BEGIN:VCALENDAR
VERSION:1.0
PRODID:Open2CKalenderExportV11
BEGIN:VEVENT
DTSTAMP:20251218T230000Z
DTSTART:20260107T140000Z
DTEND:20260107T180000Z
CATEGORIES:Veranstaltung
SUMMARY:Eichenauer Bridgefreunde  - Turnierbridge
DESCRIPTION:  | Die Eichenauer Bridgefreunde treffen sich immer mittwochs zum Turnier\nidge spielen im Abasto Hotel in Eichenau,  Bahnhofstraße 11, Konferenzraum 1. OG (Lift vorhanden). | Tischgeld EUR 5,--, Getränke (Wasser, Säfte, Tee, Kaffee, Cappuccino) nach Ver\nauch | Vorherige Anmeldung nicht nötig, es ist immer ein Joker vorhanden, bitte dazu nur eine Viertelstunde früher da sein. |   | Wir freuen uns auf Euer Kommen ! |   | Organisator   Eichenauer Bridgefreunde | Kontakt   Eichenauer Bridgefreunde Susanne Wellisch | Eichenauer Bridgefreunde
LOCATION:Abasto Hotel Eichenau, Bahnhofstraße 11, 82223 Eichenau
UID:2a84016f087ca3836379c95456ad0540-e6bbdb5695712970d8fd98da34ec6c5f
PRIORITY:3
END:VEVENT
BEGIN:VEVENT
DTSTAMP:20251121T092047Z
DTSTART:20260113T190000Z
DTEND:20260113T190000Z
CATEGORIES:Sitzung
SUMMARY:1. Sitzung des Gemeinderates (Haushalt) am 13.01.2026
DESCRIPTION:Sitzung des GemeinderatesInfos inkl. Tagesordnung finden Sie im Bürgerinfoportal | Organisator   Gemeinde Eichenau | Kontakt   bgmvorzimmer@eichenau.de
LOCATION:Multifunktionssaal im Rathaus
 Hauptplatz 2, Eichenau
UID:2537af141b8e7d2ad5aa24fa843374d3-8a2ab36f1a5956943d04da53eadcc7bb
PRIORITY:3
END:VEVENT
BEGIN:VEVENT
DTSTAMP:20251208T111019Z
DTSTART:20260117T190000Z
DTEND:20260117T220000Z
CATEGORIES:Konzert
URL:https://musikverein-eichenau.de/
SUMMARY:Neujahrskonzert 2026
DESCRIPTION:"The Cyber Conductor“ - Neujahrskonzert 2026 des Musikvereins Eichenau unter der Leitung von Mathias Wehr | Lassen Sie sich überraschen…Es erwartet Sie ein \neit gefächertes Programm wundervoller und mitreißender Melodien mit Musikgenuß auf höchstem Niveau, unter anderem mit „El Camino Real“ von Alfred Reed und der Filmmusik aus „Drachen zähmen leicht gemacht“. | Neujahrskonzerte am Samstag, 17. Januar 2026 um 19 Uhr und am Sonntag, 18. Januar um 16 Uhr in der Starzelbachschule Eichenau. Konzertkarten (€ 20 / erm. € 15) erhalten Sie im Vorverkauf bei der Buchhandlung Rezai, Hauptstr. 27 in Eichenau sowie an der Abendkasse. | Organisator   Musikverein Eichenau | Kontakt   Beck Johannes | erster-vorsitzender@musikverein-eichenau.de
LOCATION:Starzelbachschule Eichenau
UID:285233df05eeddabd13806f68b765f96-7c2609c3276313c9c3659ca0963ddf83
PRIORITY:3
END:VEVENT
BEGIN:VEVENT
DTSTAMP:20251208T111707Z
DTSTART:20260118T160000Z
DTEND:20260118T190000Z
CATEGORIES:Konzert
URL:https://musikverein-eichenau.de/
SUMMARY:Neujahrskonzert 2026
DESCRIPTION:"The Cyber Conductor“ - Neujahrskonzert 2026 des Musikvereins Eichenau unter der Leitung von Mathias Wehr | Lassen Sie sich überraschen…Es erwartet Sie ein \neit gefächertes Programm wundervoller und mitreißender Melodien mit Musikgenuß auf höchstem Niveau, unter anderem mit „El Camino Real“ von Alfred Reed und der Filmmusik aus „Drachen zähmen leicht gemacht“. | Neujahrskonzerte am Samstag, 17. Januar 2026 um 19 Uhr und am Sonntag, 18. Januar um 16 Uhr in der Starzelbachschule Eichenau. Konzertkarten (€ 20 / erm. € 15) erhalten Sie im Vorverkauf bei der Buchhandlung Rezai, Hauptstr. 27 in Eichenau sowie an der Abendkasse. | Organisator   Musikverein Eichenau | Kontakt   Beck Johannes | erster-vorsitzender@musikverein-eichenau.de
LOCATION:Starzelbachschule Eichenau
UID:17a6aec8ab9bc4936140ac264562fac0-7c2609c3276313c9c3659ca0963ddf83
PRIORITY:3
END:VEVENT
BEGIN:VEVENT
DTSTAMP:20251207T230000Z
DTSTART:20260123T193000Z
DTEND:20260123T220000Z
CATEGORIES:kulturelle Veranstaltung
SUMMARY:KINO IN EICHENAU
DESCRIPTION:KINO IN EICHENAU | Das Projekt „Kino - Frauen aller Kulturen“ präsentiert: | nach einer wahren Begebenheit: | JUDI DENSCH   ALI FAZAL | „VICTORIA UND ABDUL“ |   | Königin Victoria (Judi Dench) lässt Ende des 19. Jahrhunderts dem Inder Abdul Karim (Ali Fazal) die Ehre zuteil werden, in ihrem Haushalt zu dienen. Eine enge Freundschaft entwickelt sich daraufhin zwischen den beiden ungleichen Menschen, was im Königshaus allerdings für Spannungen sorgt, weil viele andere Angestellte sich Karim überlegen fühlen, die Queen aber trotzdem darauf besteht, ihren indischen Sekretär als Vertrauten überallhin mitzunehmen. | Victoria &amp; Abdul basiert auf wahren Begebenheiten: Mohammed Abdul Karim wurde 1863 im indischen Jhansi geboren. 1887 erhielt er die Anstellung als Diener im königlichen Haushalts, wofür er als einer von nur zwei Indern ausgewählt wurde. Queen Victoria lernte Abdul Karim sehr zu schätzen und es entwickelte sich eine innige platonische Freundschaft zwischen den beiden. Von der Herrscherin erhielt der Inder daraufhin den Titel "Munshi", was soviel wie "Lehrer" oder "Angestellter" bedeutet, und sie ernannte ihn zu ihrem indischen Sekretär, der sie auf vielen Reisen begleitete. Nach Victorias Tod 1901 kehrte Karim nach Indien zurück und lebte bis zu seinem eigenen Tod mit 46 im Jahr 1909 auf dem Land, das die Königin ihm dort vermacht hatte. Victorias Nachfolger Edward VII. ließ die Korrespondenz zwischen der Queen und ihrem Sekretär zu seinem Amtsantritt vernichten. | Wann? 23.01.2026  Wo? FRIESENHALLE / Bürgerzentrum / Hauptstraße 60, Eichenau | Uhrzeit? Einlass: 19:00 Uhr / Filmbeginn: 19:30 Uhr | Der Eintritt ist frei + ein Glas Sekt! | Weitere Termine:  27.02.2026 / 13.03.2026 / 23.04.2026 / 07.05.2026  | Das 2017 von der Schauspielerin Marie Theres Relin initiierte Inklusions- und Integrationsprojekt „Kino Frauen aller Kulturen“ sieht vor, dass einmal pro Monat Frauen aller Kulturen, Religionen und Nationen mit ihren Kindern zu einem kostenlosen Kinobesuch eingeladen werden. Ziel dieses Projektes ist es, Frauen ein gemütliches Beisammensein zu ermöglichen, bei dem sie sich einerseits durch einen Film gut unterhalten fühlen und sich andererseits nach dem Film über das Gesehene und das Erlebte und – bei Bedarf – ihr Leben schlechthin austauschen können. Raus aus der Küche, rein ins Kino. Alle großen und kleinen Gäste werden mit einer Tüte Popcorn begrüßt. Dieses Inklusionsprojekt wurde im Fe\nuar 2019 mit dem Integrationspreis ausgezeichnet. | Welcher Film gezeigt wird, wird auf www.eichenau.de sowie auf Plakaten im Gemeindegebiet immer ca. 2 Wochen vor der Filmaufführung veröffentlicht. | Eingeladen sind alle Frauen aller Kulturen, Religionen und Nationen mit ihren Kindern. | Informationen / Ansprechpartnerin im Rathaus: Stefanie Hoffmann / Stadtmarketing, Telefon 08141 / 730 - 160 |   |   |   |   |   | Organisator   Gemeinde Eichenau | Kontakt   Gemeinde Eichenau Stadtmarketing | 08141 / 730 - 160 | Gemeinde Eichenau | Hauptplatz 2 | 82223 Eichenau
LOCATION:FRIESENHALLE / Bürgerzentrum / Hauptstraße 60, Eichenau
UID:6fc39b03205d330b528fd8bb7ac15310-1a0105bc1096c21e01dce0c33c6d1fe7
PRIORITY:3
END:VEVENT
BEGIN:VEVENT
DTSTAMP:20251121T092244Z
DTSTART:20260127T190000Z
DTEND:20260127T190000Z
CATEGORIES:Sitzung
SUMMARY:2. Sitzung des Gemeinderates am 27.01.2026
DESCRIPTION:Sitzung des GemeinderatesInfos inkl. Tagesordnung finden Sie im Bürgerinfoportal | Organisator   Gemeinde Eichenau | Kontakt   bgmvorzimmer@eichenau.de
LOCATION:Multifunktionssaal im Rathaus
 Hauptplatz 2, Eichenau
UID:fe4298ca3a68d5c628b6a2507206ee75-100c8ba705f375797cf86d34a88c8def
PRIORITY:3
END:VEVENT
END:VCALENDAR
