BEGIN:VCALENDAR
VERSION:1.0
PRODID:Open2CKalenderExportV11
BEGIN:VEVENT
DTSTAMP:20260420T085950Z
DTSTART:20260525T000000Z
DTEND:20260807T000000Z
CATEGORIES:Veranstaltung
SUMMARY:Kunstausstellung im Rathaus "Wir Menschen" von Dagmar Horn-Schmid, Irmfried Nester und Susanne Sommer
DESCRIPTION:Die Ausstellung „Wir Menschen“ zeigt Gemälde und Drahtzeichnungen. Sie \ningt drei Eichenauer Künstlerinnen zusammen, deren Werke das vielschichtige menschliche Sein zum Inhalt haben.  Im Zentrum steht ein Dialog über Individuen und Gruppen: Während die Einzelporträts zur direkten Begegnung mit den Betrachtenden einladen, geht es in den Gruppenbildern um soziale Dynamiken. Sie machen Momente der Verbundenheit erfahrbar, zeigen aber auch Isolation oder die Entstehung von Gemeinschaften. | Durch Kombination der unterschiedlichen Handschriften der Künstlerinnen entstehen neue inhaltliche Zusammenhänge. |   | Dagmar Horn-Schmid  | 40 Jahre lang engagierte sich Dagmar Horn-Schmid als Sozialpädagogin in der Kinder- und Jugendhilfe. Jetzt im Ruhestand gilt ihre Liebe ihren kleinen Enkelkindern und der Kunst. Seit vielen Jahren besucht sie Kurse in freier Malerei bei Hanna Strahl. In ihren Arbeiten nutzt sie den Pinsel um Stimmungen und Emotionen zu verarbeiten und ihnen Gestalt zu geben. Sie malt überwiegend mit Acryl auf Leinwand.  | Jedes Werk ist ein Ringen um Farbe, Form und Licht.  | Gemeinsam mit Hanna Strahl und dem Kulturverein Eichenau war sie an verschiedenen Ausstellungen beteiligt. |   | Irmfried Nester |  | Irmfried Nester lebt und arbeitet in Eichenau. Ihr künstlerisches Motto lautet „Farbe – Form – Bewegung“, das sie in der Malerei, in Skulpturen und in der Objektkunst umsetzt. Ihre Ausbildung absolvierte sie bei akademischen Künstlern, unter anderen in der Malschule Zeiler in München, sowie bei Willi Sieber und Peter Casagrande an der Kunstakademie Bad Reichenhall. Sie war Gründungsmitglied und langjährige Vorständin des Kunstforum allingas in Alling und blickt auf zahlreiche Einzel- und Gruppenausstellungen zurück. Ihre Werke wurden im Landkreis Fürstenfeld\nuck, in München sowie international in Österreich, Ungarn und Finnland gezeigt. |   | Susanne Sommer  | Susanne Sommer studierte Kunst auf Lehramt in Köln und Tilburg (Niederlande) und ist heute als Floristmeisterin tätig. Die tägliche Kreativität fließt gewissermaßen in ihre Kunst ein – das Material ihrer „Drahtgesichter“ stammt aus der Floristikwerkstatt. Ihre Drahtzeichnungen fangen die Stimmung von Gesichtern mit nur einer einzelnen Linie ein. Werden mehrere Gesichter nebeneinander gestellt, erzählen sie Geschichten über menschliche Beziehungen.  | Neben dieser Technik arbeitet Sommer unter anderem mit Siebdruck. Sie war Preisträgerin des Förderpreises „Junge Kunst“ (Sundern) und stellte in Köln, Arnsberg, Meschede und Marsberg aus und initiierte das Eichenauer Gemeinschaftsprojekt „Die Hängenden Gärten“. |   |   | Die Ausstellung kann während der Öffnungszeiten des Rathauses besucht werden: Mo, Do, Fr von 08-12 Uhr und Di von 15-18 Uhr. | Wir danken Peter Münster, Stefanie Hoffmann und dem Hängeteam vom Bauhof herzlich für die Gelegenheit zu dieser Ausstellung! | Dagmar Horn-Schmid, Irmfried Nester, Susanne Sommer | Organisator   Dagmar Horn-Schmid, Irmfried Nester, Susanne Sommer | Kontakt   Frau Stefanie Hoffmann | Tel: 08141-730 160 | meks@eichenau.de
LOCATION:Rathaus der Gemeinde Eichenau
 Hauptplatz 2
 82223 Eichenau
UID:fb91eb2592499cb042045605c777482e-af1e5e49aaf99b4ad25e56c11faeeb1e
PRIORITY:3
END:VEVENT
BEGIN:VEVENT
DTSTAMP:20251121T093919Z
DTSTART:20260721T190000Z
DTEND:20260721T190000Z
CATEGORIES:Sitzung
SUMMARY:11. Sitzung des Gemeinderates am 21.07.2026
DESCRIPTION:Sitzung des GemeinderatesInfos inkl. Tagesordnung finden Sie im Bürgerinfoportal | Organisator   Gemeinde Eichenau | Kontakt   bgmvorzimmer@eichenau.de
LOCATION:Multifunktionssaal im Rathaus
 Hauptplatz 2, Eichenau
UID:6803fbd1fdb4a9ed734edf1a4ade7af5-b9f5f453c3e8908a20317187236249bd
PRIORITY:3
END:VEVENT
BEGIN:VEVENT
DTSTAMP:20260224T160112Z
DTSTART:20260723T093000Z
DTEND:20260723T113000Z
CATEGORIES:Veranstaltung
SUMMARY:Pflegeberatung vor Ort in Eichenau im Rathaus
DESCRIPTION:Wenn Sie in Eichenau wohnen und Fragen rund um das Thema Pflege haben, unterstützen wir Sie gern im Pflegestützpunkt. Wir helfen Ihnen zum Beispiel dabei, Pflegeleistungen zu beantragen, passende Hilfsangebote zu finden oder sich in akuten Situationen schnell zurechtzufinden. Auch wenn Sie persönliche und verständliche Informationen zur Pflege suchen, sind Sie bei uns richtig. |  | Unsere Pflegeberaterinnen bieten Ihnen eine professionelle und verständliche Beratung. | WICHTIG: Nur mit vorheriger Terminvereinbarung!  | Telefon: 08141-519-7070Mail: pflegestuetzpunkt@lra-ffb.de |  | Organisator   Landratsamt Fürstenfeld\nuck | Pflegestützpunkt FFB | Kontakt   Telefon: 08141-519-7070 | Mail: pflegestuetzpunkt@lra-ffb.de
LOCATION:Gemeinde Eichenau
 Besprechungszimmer 111, EG
 Hauptplatz 2
 82223 Eichenau
UID:2a8f81ae7796954f59b7d873009ce085-e8023803676b212f1efb5751ab10ff73
PRIORITY:3
END:VEVENT
END:VCALENDAR
