BEGIN:VCALENDAR
VERSION:2.0
PRODID:< http://www.open2c.de/ >
METHOD:PUBLISH
X-PUBLISHED-TTL:PT12H
BEGIN:VEVENT
CREATED:20241016T135820Z
LAST-MODIFIED:20241023T140051Z
DTSTAMP:20260424T185318Z
DTSTART;VALUE=DATE:20241026
CATEGORIES:Konzert
SUMMARY:Ocarina-Konzert: Ocarina-Ensemble Budrio spielt in der Starzelbachschule
DESCRIPTION:Das Ocarina-Ensemble Budrio aus unserer Städtepartnerschaft Bu
	drio spielt bei uns in Eichenau!     Herzliche Einladung zum Ocarina-Kon
	zert mit dem Ocarina-Ensemble Budrio (OEBU) unter der Leitung von Cristian
	 Pauleni am 26.10.2024\, um 19 Uhr Änderung: in der Starzelbachschule\, Par
	kstr. 32 ( nicht in der St. Georgskapelle zu Roggenstein) Änderung: Eintr
	itt ist frei!Bereits erworbene Karten: (18 Euro  / ermäßigte Karten: 10
	 Euro) können an der Kasse im Rathaus (siehe Parteiverkehrszeiten) wieder
	 zurückgegeben werden bzw. werden erstattet! Auf dem Programm stehen von 
	tradtionellen budrieser Ocarina-Werken bis hin zu Arrangements von Donizet
	ti und Mozart. Genießen Sie dieses besondere Klangerlebnis in der Kapelle
	 zu Roggenstein.
UID:468af0ad6b8e6e96e1c5b6c0da95bd80@12903576e1eacfa98405c56ca2e3382b
END:VEVENT
END:VCALENDAR