BEGIN:VCALENDAR
VERSION:2.0
PRODID:< http://www.open2c.de/ >
METHOD:PUBLISH
X-PUBLISHED-TTL:PT12H
BEGIN:VEVENT
CREATED:20260420T084155Z
LAST-MODIFIED:20260420T085950Z
ORGANIZER;CN="Dagmar Horn-Schmid\, Irmfried Nester\, Susanne Sommer":MAILTO:Frau Stefanie Hoffmann\nTel: 08141-730 160\nmeks@eichenau.de
DTSTAMP:20260420T104411Z
DTSTART:20260525T000000Z
DTEND:20260807T000000Z
CATEGORIES:Veranstaltung
SUMMARY:Kunstausstellung im Rathaus "Wir Menschen" von Dagmar Horn-Schmid\, Irmfried Nester und Susanne Sommer
DESCRIPTION:Die Ausstellung „Wir Menschen“ zeigt Gemälde und Drahtzeic
	hnungen. Sie bringt drei Eichenauer Künstlerinnen zusammen\, deren Werke d
	as vielschichtige menschliche Sein zum Inhalt haben.  Im Zentrum steht ei
	n Dialog über Individuen und Gruppen: Während die Einzelporträts zur di
	rekten Begegnung mit den Betrachtenden einladen\, geht es in den Gruppenbil
	dern um soziale Dynamiken. Sie machen Momente der Verbundenheit erfahrbar\,
	 zeigen aber auch Isolation oder die Entstehung von Gemeinschaften. Durch 
	Kombination der unterschiedlichen Handschriften der Künstlerinnen entsteh
	en neue inhaltliche Zusammenhänge.   Dagmar Horn-Schmid 40 Jahre lang en
	gagierte sich Dagmar Horn-Schmid als Sozialpädagogin in der Kinder- und J
	ugendhilfe. Jetzt im Ruhestand gilt ihre Liebe ihren kleinen Enkelkindern 
	und der Kunst. Seit vielen Jahren besucht sie Kurse in freier Malerei bei 
	Hanna Strahl. In ihren Arbeiten nutzt sie den Pinsel um Stimmungen und Emo
	tionen zu verarbeiten und ihnen Gestalt zu geben. Sie malt überwiegend mi
	t Acryl auf Leinwand.  Jedes Werk ist ein Ringen um Farbe\, Form und Licht
	.  Gemeinsam mit Hanna Strahl und dem Kulturverein Eichenau war sie an ve
	rschiedenen Ausstellungen beteiligt.   Irmfried Nester Irmfried Nester le
	bt und arbeitet in Eichenau. Ihr künstlerisches Motto lautet „Farbe –
	 Form – Bewegung“\, das sie in der Malerei\, in Skulpturen und in der Ob
	jektkunst umsetzt. Ihre Ausbildung absolvierte sie bei akademischen Künst
	lern\, unter anderen in der Malschule Zeiler in München\, sowie bei Willi S
	ieber und Peter Casagrande an der Kunstakademie Bad Reichenhall. Sie war G
	ründungsmitglied und langjährige Vorständin des Kunstforum allingas in 
	Alling und blickt auf zahlreiche Einzel- und Gruppenausstellungen zurück.
	 Ihre Werke wurden im Landkreis Fürstenfeldbruck\, in München sowie inter
	national in Österreich\, Ungarn und Finnland gezeigt.   Susanne Sommer Su
	sanne Sommer studierte Kunst auf Lehramt in Köln und Tilburg (Niederlande
	) und ist heute als Floristmeisterin tätig. Die tägliche Kreativität fl
	ießt gewissermaßen in ihre Kunst ein – das Material ihrer „Drahtgesi
	chter“ stammt aus der Floristikwerkstatt. Ihre Drahtzeichnungen fangen d
	ie Stimmung von Gesichtern mit nur einer einzelnen Linie ein. Werden mehre
	re Gesichter nebeneinander gestellt\, erzählen sie Geschichten über mensc
	hliche Beziehungen.  Neben dieser Technik arbeitet Sommer unter anderem m
	it Siebdruck. Sie war Preisträgerin des Förderpreises „Junge Kunst“ 
	(Sundern) und stellte in Köln\, Arnsberg\, Meschede und Marsberg aus und in
	itiierte das Eichenauer Gemeinschaftsprojekt „Die Hängenden Gärten“.
	     Die Ausstellung kann während der Öffnungszeiten des Rathauses bes
	ucht werden: Mo\, Do\, Fr von 08-12 Uhr und Di von 15-18 Uhr. Wir danken Pet
	er Münster\, Stefanie Hoffmann und dem Hängeteam vom Bauhof herzlich für
	 die Gelegenheit zu dieser Ausstellung! Dagmar Horn-Schmid\, Irmfried Neste
	r\, Susanne Sommer Organisator Dagmar Horn-Schmid\, Irmfried Nester\, Susanne
	 Sommer Kontakt Frau Stefanie Hoffmann Tel: 08141-730 160 meks@eichenau.de
LOCATION:Rathaus der Gemeinde Eichenau\nHauptplatz 2\n82223 Eichenau
UID:329eeeea649b64fd65631b176e180749@12903576e1eacfa98405c56ca2e3382b
END:VEVENT
BEGIN:VEVENT
CREATED:20251121T013841Z
LAST-MODIFIED:20251121T093919Z
ORGANIZER;CN="Gemeinde Eichenau":MAILTO:bgmvorzimmer@eichenau.de
DTSTAMP:20260420T104411Z
DTSTART;VALUE=DATE:20260721
CATEGORIES:Sitzung
SUMMARY:11. Sitzung des Gemeinderates am 21.07.2026
DESCRIPTION:Sitzung des GemeinderatesInfos inkl. Tagesordnung finden Sie im
	 Bürgerinfoportal Organisator Gemeinde Eichenau Kontakt bgmvorzimmer@eich
	enau.de
LOCATION:Multifunktionssaal im Rathaus\nHauptplatz 2\, Eichenau
UID:c64aa8cf1968bfce307b0badc1623c3f@12903576e1eacfa98405c56ca2e3382b
END:VEVENT
BEGIN:VEVENT
CREATED:20260224T080050Z
LAST-MODIFIED:20260224T160112Z
ORGANIZER;CN="Landratsamt Fürstenfeldbruck\nPflegestützpunkt FFB":MAILTO:Telefon: 08141-519-7070\nMail: pflegestuetzpunkt@lra-ffb.de
DTSTAMP:20260420T104411Z
DTSTART:20260723T093000Z
DTEND:20260723T113000Z
CATEGORIES:Veranstaltung
SUMMARY:Pflegeberatung vor Ort in Eichenau im Rathaus
DESCRIPTION:Wenn Sie in Eichenau wohnen und Fragen rund um das Thema Pflege
	 haben\, unterstützen wir Sie gern im Pflegestützpunkt. Wir helfen Ihnen 
	zum Beispiel dabei\, Pflegeleistungen zu beantragen\, passende Hilfsangebote
	 zu finden oder sich in akuten Situationen schnell zurechtzufinden. Auch w
	enn Sie persönliche und verständliche Informationen zur Pflege suchen\, s
	ind Sie bei uns richtig. Unsere Pflegeberaterinnen bieten Ihnen eine profe
	ssionelle und verständliche Beratung. WICHTIG: Nur mit vorheriger Terminv
	ereinbarung!  Telefon: 08141-519-7070Mail: pflegestuetzpunkt@lra-ffb.de O
	rganisator Landratsamt Fürstenfeldbruck Pflegestützpunkt FFB Kontakt Tel
	efon: 08141-519-7070 Mail: pflegestuetzpunkt@lra-ffb.de
LOCATION:Gemeinde Eichenau\nBesprechungszimmer 111\, EG\nHauptplatz 2\n82223 Eichenau
UID:4c2fd9adf4682e84b476e6d33a6ebd84@12903576e1eacfa98405c56ca2e3382b
END:VEVENT
END:VCALENDAR